BEGIN:VCALENDAR
VERSION:2.0
PRODID:-//Tukios.com/
BEGIN:VEVENT
UID:c57a8925-2b93-4cfc-81d6-c31319089d24@www.crossingsfuneralcare.ca
DTSTAMP:20260422T211215Z
DTSTART:20260523T200000Z
DTEND:20260523T210000Z
SUMMARY:Celebration of Life
DESCRIPTION:
URL:https://www.crossingsfuneralcare.ca/obituaries/marie-louise-legal
LOCATION:Crossings Funeral Care 12E-40 North Gate Drive  Steinbach MB R5G 
	2T9
GEO:49.5658174;-96.6903022
END:VEVENT
END:VCALENDAR