BEGIN:VCALENDAR
VERSION:2.0
PRODID:-//Tukios.com/
BEGIN:VEVENT
UID:0397b86b-d356-49a9-ac76-741b1ff24938@www.crossingsfuneralcare.ca
DTSTAMP:20260426T000416Z
DTSTART:20260501T201500Z
DTEND:20260501T211500Z
SUMMARY:Interment
DESCRIPTION:
URL:https://www.crossingsfuneralcare.ca/obituaries/maria-neufeld
LOCATION: Box 612  Grunthal MB R0A 0R0
GEO:49.4087948;-96.8597274
END:VEVENT
END:VCALENDAR