BEGIN:VCALENDAR
VERSION:2.0
PRODID:-//Tukios.com/
BEGIN:VEVENT
UID:4edc151a-ee69-494a-bcb5-3764b7828321@www.crossingsfuneralcare.ca
DTSTAMP:20260426T000718Z
DTSTART:20260501T190000Z
DTEND:20260501T200000Z
SUMMARY:Funeral Service
DESCRIPTION:
URL:https://www.crossingsfuneralcare.ca/obituaries/maria-neufeld
LOCATION: 12E-40 North Gate Drive  Steinbach MB R5G 2T9
GEO:49.5658174;-96.6903022
END:VEVENT
END:VCALENDAR