BEGIN:VCALENDAR
VERSION:2.0
PRODID:-//Tukios.com/
BEGIN:VEVENT
UID:1c8de43c-2041-4f16-921e-48166a1436aa@www.crossingsfuneralcare.ca
DTSTAMP:20260426T000518Z
DTSTART:20260501T180000Z
DTEND:20260501T190000Z
SUMMARY:Viewing
DESCRIPTION:
URL:https://www.crossingsfuneralcare.ca/obituaries/maria-neufeld
LOCATION: 12E-40 North Gate Drive  Steinbach MB R5G 2T9
GEO:49.5658174;-96.6903022
END:VEVENT
END:VCALENDAR