BEGIN:VCALENDAR
VERSION:2.0
PRODID:-//Tukios.com/
BEGIN:VEVENT
UID:d491839f-8a24-4e06-9939-4e805bb8503b@www.crossingsfuneralcare.ca
DTSTAMP:20260426T025906Z
DTSTART:20260503T180000Z
DTEND:20260503T210000Z
SUMMARY:Celebration of Life
DESCRIPTION:
URL:https://www.crossingsfuneralcare.ca/obituaries/adonis-dubois
LOCATION: 1 Rivard Street  Ile Des Chenes  R6W 1A3
GEO:49.7142887;-96.994898
END:VEVENT
END:VCALENDAR