BEGIN:VCALENDAR
VERSION:2.0
PRODID:-//Tukios.com/
BEGIN:VEVENT
UID:e84042fd-150d-4a28-b24f-6be43f541d66@www.crossingsfuneralcare.ca
DTSTAMP:20260421T232211Z
DTSTART:20260424T180000Z
DTEND:20260424T190000Z
SUMMARY:Reception
DESCRIPTION:
URL:https://www.crossingsfuneralcare.ca/obituaries/adelaide-freund
LOCATION: 465 Henry Steet  Steinbach MB R5G 0H1
GEO:49.5256196;-96.6734676
END:VEVENT
END:VCALENDAR