BEGIN:VCALENDAR
VERSION:2.0
PRODID:-//Tukios.com/
BEGIN:VEVENT
UID:9ac0c7dd-9f03-4501-90f0-f870e12fb06a@www.crossingsfuneralcare.ca
DTSTAMP:20260421T231530Z
DTSTART:20260424T171500Z
DTEND:20260424T180000Z
SUMMARY:Interment
DESCRIPTION:
URL:https://www.crossingsfuneralcare.ca/obituaries/adelaide-freund
LOCATION: 35143 PR 303  Friedensfeld  R0A 0W0
GEO:49.4732272;-96.6491712
END:VEVENT
END:VCALENDAR