BEGIN:VCALENDAR
VERSION:2.0
PRODID:-//Tukios.com/
BEGIN:VEVENT
UID:68dc1415-812d-4874-a625-5c5301835473@www.crossingsfuneralcare.ca
DTSTAMP:20260421T232032Z
DTSTART:20260424T160000Z
DTEND:20260424T170000Z
SUMMARY:Funeral Service
DESCRIPTION:
URL:https://www.crossingsfuneralcare.ca/obituaries/adelaide-freund
LOCATION: 465 Henry Steet  Steinbach MB R5G 0H1
GEO:49.5256196;-96.6734676
END:VEVENT
END:VCALENDAR