BEGIN:VCALENDAR
VERSION:2.0
PRODID:-//Tukios.com/
BEGIN:VEVENT
UID:bcccf294-65a0-4155-9aaf-5c784304e47e@www.crossingsfuneralcare.ca
DTSTAMP:20260421T231714Z
DTSTART:20260424T150000Z
DTEND:20260424T160000Z
SUMMARY:Viewing
DESCRIPTION:
URL:https://www.crossingsfuneralcare.ca/obituaries/adelaide-freund
LOCATION: 465 Henry Steet  Steinbach MB R5G 0H1
GEO:49.5256196;-96.6734676
END:VEVENT
END:VCALENDAR